BEGIN:VCALENDAR
VERSION:2.0
PRODID:-//Tamworth Sporting Car Club - ECPv6.15.13//NONSGML v1.0//EN
CALSCALE:GREGORIAN
METHOD:PUBLISH
X-WR-CALNAME:Tamworth Sporting Car Club
X-ORIGINAL-URL:https://tamworthscc.com.au
X-WR-CALDESC:Events for Tamworth Sporting Car Club
REFRESH-INTERVAL;VALUE=DURATION:PT1H
X-Robots-Tag:noindex
X-PUBLISHED-TTL:PT1H
BEGIN:VTIMEZONE
TZID:UTC
BEGIN:STANDARD
TZOFFSETFROM:+0000
TZOFFSETTO:+0000
TZNAME:UTC
DTSTART:20240101T000000
END:STANDARD
END:VTIMEZONE
BEGIN:VEVENT
DTSTART;TZID=UTC:20251004T090000
DTEND;TZID=UTC:20251005T170000
DTSTAMP:20260424T015036
CREATED:20250304T091848Z
LAST-MODIFIED:20250304T091848Z
UID:833-1759568400-1759683600@tamworthscc.com.au
SUMMARY:Hillclimb - Tri Series
DESCRIPTION:
URL:https://tamworthscc.com.au/event/hillclimb-tri-series-2
LOCATION:Ringwood Park Raymond Terrace
END:VEVENT
BEGIN:VEVENT
DTSTART;TZID=UTC:20251018T080000
DTEND;TZID=UTC:20251019T150000
DTSTAMP:20260424T015036
CREATED:20250919T211848Z
LAST-MODIFIED:20250919T213316Z
UID:921-1760774400-1760886000@tamworthscc.com.au
SUMMARY:OAKBURN PARK DRIFT MATSURI!
DESCRIPTION:OAKBURN PARK DRIFT MATSURI! \nFind out more\, click HERE: \n https://oakburnparkdriftmatsuri.com.au/ 
URL:https://tamworthscc.com.au/event/oakburn-park-drift-matsuri
LOCATION:NSW
END:VEVENT
END:VCALENDAR