BEGIN:VCALENDAR
VERSION:2.0
PRODID:-//Tamworth Sporting Car Club - ECPv6.15.13//NONSGML v1.0//EN
CALSCALE:GREGORIAN
METHOD:PUBLISH
X-ORIGINAL-URL:https://tamworthscc.com.au
X-WR-CALDESC:Events for Tamworth Sporting Car Club
REFRESH-INTERVAL;VALUE=DURATION:PT1H
X-Robots-Tag:noindex
X-PUBLISHED-TTL:PT1H
BEGIN:VTIMEZONE
TZID:UTC
BEGIN:STANDARD
TZOFFSETFROM:+0000
TZOFFSETTO:+0000
TZNAME:UTC
DTSTART:20240101T000000
END:STANDARD
END:VTIMEZONE
BEGIN:VEVENT
DTSTART;TZID=UTC:20250615T090000
DTEND;TZID=UTC:20250615T170000
DTSTAMP:20260423T232321
CREATED:20250304T091327Z
LAST-MODIFIED:20250519T092025Z
UID:820-1749978000-1750006800@tamworthscc.com.au
SUMMARY:TSCC Club Lap Dash / Drift Practice
DESCRIPTION:DRIFT PRACTICE – 12.30pm – onwards \nSupplementary Regulations June 15th 2025  \n2025 Speed Non Speed Entry Form \nTHE FOLLOWING TWO FORMS ARE TO BE COMPLETED AND PRESENTED AT SCRUTINEERING \n2025-Self-Scrutiny-Checklist-1 \nMotorsport Australia Scrutiny Statement of Vehicle Compliance \n  \n 
URL:https://tamworthscc.com.au/event/lap-dash-3
LOCATION:Oakburn Park Raceway\, 1428 Oxley Hwy\, Wallamore\, NSW\, 2340\, Australia
END:VEVENT
END:VCALENDAR