BEGIN:VCALENDAR
VERSION:2.0
PRODID:-//Tamworth Sporting Car Club - ECPv6.15.13//NONSGML v1.0//EN
CALSCALE:GREGORIAN
METHOD:PUBLISH
X-WR-CALNAME:Tamworth Sporting Car Club
X-ORIGINAL-URL:https://tamworthscc.com.au
X-WR-CALDESC:Events for Tamworth Sporting Car Club
REFRESH-INTERVAL;VALUE=DURATION:PT1H
X-Robots-Tag:noindex
X-PUBLISHED-TTL:PT1H
BEGIN:VTIMEZONE
TZID:UTC
BEGIN:STANDARD
TZOFFSETFROM:+0000
TZOFFSETTO:+0000
TZNAME:UTC
DTSTART:20240101T000000
END:STANDARD
END:VTIMEZONE
BEGIN:VEVENT
DTSTART;TZID=UTC:20250517T090000
DTEND;TZID=UTC:20250518T170000
DTSTAMP:20260423T215752
CREATED:20250304T091248Z
LAST-MODIFIED:20250413T065855Z
UID:818-1747472400-1747587600@tamworthscc.com.au
SUMMARY:Tri Series - Lap Dash Round 2
DESCRIPTION:Supplementary Regulations 17-18th May 2025 \n2025 Speed Non Speed Entry Form \n2025-Self-Scrutiny-Checklist-1 \n2025 Event Entry – Statement of Vehicle Apparel Compliance \n 
URL:https://tamworthscc.com.au/event/lap-dash-tri-series
LOCATION:Oakburn Park Raceway\, 1428 Oxley Hwy\, Wallamore\, NSW\, 2340\, Australia
END:VEVENT
END:VCALENDAR