BEGIN:VCALENDAR
VERSION:2.0
PRODID:-//Tamworth Sporting Car Club - ECPv6.15.13//NONSGML v1.0//EN
CALSCALE:GREGORIAN
METHOD:PUBLISH
X-ORIGINAL-URL:https://tamworthscc.com.au
X-WR-CALDESC:Events for Tamworth Sporting Car Club
REFRESH-INTERVAL;VALUE=DURATION:PT1H
X-Robots-Tag:noindex
X-PUBLISHED-TTL:PT1H
BEGIN:VTIMEZONE
TZID:UTC
BEGIN:STANDARD
TZOFFSETFROM:+0000
TZOFFSETTO:+0000
TZNAME:UTC
DTSTART:20240101T000000
END:STANDARD
END:VTIMEZONE
BEGIN:VEVENT
DTSTART;TZID=UTC:20250315T090000
DTEND;TZID=UTC:20250316T170000
DTSTAMP:20260423T185923
CREATED:20250304T090104Z
LAST-MODIFIED:20250304T090104Z
UID:809-1742029200-1742144400@tamworthscc.com.au
SUMMARY:Hillclimb - Tri Series
DESCRIPTION:
URL:https://tamworthscc.com.au/event/hillclimb-tri-series
LOCATION:Mount Cooperabung Kempsey
END:VEVENT
END:VCALENDAR