BEGIN:VCALENDAR
VERSION:2.0
PRODID:-//Tamworth Sporting Car Club - ECPv6.15.13//NONSGML v1.0//EN
CALSCALE:GREGORIAN
METHOD:PUBLISH
X-WR-CALNAME:Tamworth Sporting Car Club
X-ORIGINAL-URL:https://tamworthscc.com.au
X-WR-CALDESC:Events for Tamworth Sporting Car Club
REFRESH-INTERVAL;VALUE=DURATION:PT1H
X-Robots-Tag:noindex
X-PUBLISHED-TTL:PT1H
BEGIN:VTIMEZONE
TZID:UTC
BEGIN:STANDARD
TZOFFSETFROM:+0000
TZOFFSETTO:+0000
TZNAME:UTC
DTSTART:20240101T000000
END:STANDARD
END:VTIMEZONE
BEGIN:VEVENT
DTSTART;TZID=UTC:20250215T080000
DTEND;TZID=UTC:20250215T170000
DTSTAMP:20260423T174417
CREATED:20250119T013516Z
LAST-MODIFIED:20250119T013516Z
UID:786-1739606400-1739638800@tamworthscc.com.au
SUMMARY:Come & Try Day
DESCRIPTION:Format of ‘Come & Try Day’ \n1. Paperwork completed.\n2. Drivers briefing: flags\, general rules and safety.\n3. Basic driver techniques. \nOn Track:\n One car at a time on the track at any time with licensed instructor.\n Three laps in duration.\n After first run of all drivers\, a drivers briefing of overall and individual\ndriving will be held prior to the second run.\n The second run will be individual drivers or an instructor will drive in\norder\, to further instruct the driver if needed.\n The third run will be driver only or with instructor travelling as\npassenger. \nForms: \n\nMembership form\nEntry form\nCome & Try format\nIntroductory licence\nSupplementary Regs
URL:https://tamworthscc.com.au/event/come-try-day-4
LOCATION:Oakburn Park Raceway\, 1428 Oxley Hwy\, Wallamore\, NSW\, 2340\, Australia
END:VEVENT
BEGIN:VEVENT
DTSTART;TZID=UTC:20250216T080000
DTEND;TZID=UTC:20250216T170000
DTSTAMP:20260423T174417
CREATED:20250119T014121Z
LAST-MODIFIED:20250119T014121Z
UID:793-1739692800-1739725200@tamworthscc.com.au
SUMMARY:Lap Dash
DESCRIPTION:Forms \n\nMembership form\nSupplementary Regs\nSpeed Non Speed Entry form\nSelf Scrutiny Checklist\nSelf Statement of Vehicle Compliance
URL:https://tamworthscc.com.au/event/lap-dash-2
LOCATION:Oakburn Park Raceway\, 1428 Oxley Hwy\, Wallamore\, NSW\, 2340\, Australia
END:VEVENT
END:VCALENDAR