BEGIN:VCALENDAR
VERSION:2.0
PRODID:-//Tamworth Sporting Car Club - ECPv6.15.13//NONSGML v1.0//EN
CALSCALE:GREGORIAN
METHOD:PUBLISH
X-ORIGINAL-URL:https://tamworthscc.com.au
X-WR-CALDESC:Events for Tamworth Sporting Car Club
REFRESH-INTERVAL;VALUE=DURATION:PT1H
X-Robots-Tag:noindex
X-PUBLISHED-TTL:PT1H
BEGIN:VTIMEZONE
TZID:UTC
BEGIN:STANDARD
TZOFFSETFROM:+0000
TZOFFSETTO:+0000
TZNAME:UTC
DTSTART:20230101T000000
END:STANDARD
END:VTIMEZONE
BEGIN:VEVENT
DTSTART;TZID=UTC:20241214T110000
DTEND;TZID=UTC:20241214T170000
DTSTAMP:20260423T174545
CREATED:20241120T110638Z
LAST-MODIFIED:20241202T082856Z
UID:772-1734174000-1734195600@tamworthscc.com.au
SUMMARY:Club Practice
DESCRIPTION:TSCC Club Practice 14 December 2024\nSelf Statement of Vehicle Compliance\nSelf Scrutiny Checklist\nSpeed non Speed Entry Form\n\n\nThe TSCC Christmas Party will follow this event starting at 6.00pm $30.00 per head. RSVP before 6 December. Click here for event details.
URL:https://tamworthscc.com.au/event/club-practice
LOCATION:Oakburn Park Raceway\, 1428 Oxley Hwy\, Wallamore\, NSW\, 2340\, Australia
END:VEVENT
BEGIN:VEVENT
DTSTART;TZID=UTC:20241214T180000
DTEND;TZID=UTC:20241214T210000
DTSTAMP:20260423T174545
CREATED:20241120T111122Z
LAST-MODIFIED:20241120T112317Z
UID:777-1734199200-1734210000@tamworthscc.com.au
SUMMARY:TSCC Christmas Party
DESCRIPTION:This year the Club’s Christmas Party will be held on Saturday\, 14th December at Oakburn with catering provided by The Firey Cook.  The cost per person is $30.00 and they will be providing a meal consisting of 3 meats & 3 salads.\n\nNumbers need to be in by Friday\, 6th December.\n\n\nPlease RSVP asap if you are able to attend to: tracyalbertson@hotmail.com
URL:https://tamworthscc.com.au/event/tscc-christmas-party
LOCATION:Oakburn Park Raceway\, 1428 Oxley Hwy\, Wallamore\, NSW\, 2340\, Australia
END:VEVENT
END:VCALENDAR