BEGIN:VCALENDAR
VERSION:2.0
PRODID:-//Tamworth Sporting Car Club - ECPv6.15.13//NONSGML v1.0//EN
CALSCALE:GREGORIAN
METHOD:PUBLISH
X-WR-CALNAME:Tamworth Sporting Car Club
X-ORIGINAL-URL:https://tamworthscc.com.au
X-WR-CALDESC:Events for Tamworth Sporting Car Club
REFRESH-INTERVAL;VALUE=DURATION:PT1H
X-Robots-Tag:noindex
X-PUBLISHED-TTL:PT1H
BEGIN:VTIMEZONE
TZID:UTC
BEGIN:STANDARD
TZOFFSETFROM:+0000
TZOFFSETTO:+0000
TZNAME:UTC
DTSTART:20230101T000000
END:STANDARD
END:VTIMEZONE
BEGIN:VEVENT
DTSTART;TZID=UTC:20240915T080000
DTEND;TZID=UTC:20240915T170000
DTSTAMP:20260423T215817
CREATED:20240220T114443Z
LAST-MODIFIED:20240220T114636Z
UID:676-1726387200-1726419600@tamworthscc.com.au
SUMMARY:State Hillclimb
DESCRIPTION:
URL:https://tamworthscc.com.au/event/state-hillclimb-gunnedah
LOCATION:Porcupine Lookout\, Gunnedah\, NSW\, 2380\, Australia
END:VEVENT
BEGIN:VEVENT
DTSTART;TZID=UTC:20240922T080000
DTEND;TZID=UTC:20240922T170000
DTSTAMP:20260423T215817
CREATED:20240901T102747Z
LAST-MODIFIED:20240901T103638Z
UID:755-1726992000-1727024400@tamworthscc.com.au
SUMMARY:Lap Dash
DESCRIPTION:Supplementary Regulations\nSpeed Non Speed Entry Form\nSelf Statement of Vehicle Compliance\nSelf Scrutiny Checklist
URL:https://tamworthscc.com.au/event/lap-dash-22-september
LOCATION:Oakburn Park Raceway\, 1428 Oxley Hwy\, Wallamore\, NSW\, 2340\, Australia
END:VEVENT
END:VCALENDAR