BEGIN:VCALENDAR
VERSION:2.0
PRODID:-//Tamworth Sporting Car Club - ECPv6.15.13//NONSGML v1.0//EN
CALSCALE:GREGORIAN
METHOD:PUBLISH
X-WR-CALNAME:Tamworth Sporting Car Club
X-ORIGINAL-URL:https://tamworthscc.com.au
X-WR-CALDESC:Events for Tamworth Sporting Car Club
REFRESH-INTERVAL;VALUE=DURATION:PT1H
X-Robots-Tag:noindex
X-PUBLISHED-TTL:PT1H
BEGIN:VTIMEZONE
TZID:UTC
BEGIN:STANDARD
TZOFFSETFROM:+0000
TZOFFSETTO:+0000
TZNAME:UTC
DTSTART:20230101T000000
END:STANDARD
END:VTIMEZONE
BEGIN:VEVENT
DTSTART;TZID=UTC:20240817T080000
DTEND;TZID=UTC:20240818T170000
DTSTAMP:20260423T232158
CREATED:20240220T113812Z
LAST-MODIFIED:20240725T111320Z
UID:674-1723881600-1724000400@tamworthscc.com.au
SUMMARY:Tri Series Round 3
DESCRIPTION:Speed Non Speed Entry Form\nTri Series 2024 \nSelf Scrutiny Checklist\nSelf Statement of Vehicle Compliance
URL:https://tamworthscc.com.au/event/tri-series-round-3-2024
LOCATION:Oakburn Park Raceway\, 1428 Oxley Hwy\, Wallamore\, NSW\, 2340\, Australia
END:VEVENT
END:VCALENDAR