BEGIN:VCALENDAR
VERSION:2.0
PRODID:-//Tamworth Sporting Car Club - ECPv6.15.13//NONSGML v1.0//EN
CALSCALE:GREGORIAN
METHOD:PUBLISH
X-ORIGINAL-URL:https://tamworthscc.com.au
X-WR-CALDESC:Events for Tamworth Sporting Car Club
REFRESH-INTERVAL;VALUE=DURATION:PT1H
X-Robots-Tag:noindex
X-PUBLISHED-TTL:PT1H
BEGIN:VTIMEZONE
TZID:UTC
BEGIN:STANDARD
TZOFFSETFROM:+0000
TZOFFSETTO:+0000
TZNAME:UTC
DTSTART:20230101T000000
END:STANDARD
END:VTIMEZONE
BEGIN:VEVENT
DTSTART;TZID=UTC:20240615T080000
DTEND;TZID=UTC:20240615T170000
DTSTAMP:20260424T015036
CREATED:20240220T113328Z
LAST-MODIFIED:20240516T100617Z
UID:668-1718438400-1718470800@tamworthscc.com.au
SUMMARY:Drift Practice
DESCRIPTION:TSCC Drift Practice Club Lap Dash Rd 3\n2024 Self Statement of Vehicle Compliance\n2024 Speed Non Speed Entry Form\n2024 Self Scrutiny Checklist\n2024 Introductory Licence Application\n2024 Speed Licence Application\n\n 
URL:https://tamworthscc.com.au/event/drift-practice-2
LOCATION:Oakburn Park Raceway\, 1428 Oxley Hwy\, Wallamore\, NSW\, 2340\, Australia
END:VEVENT
BEGIN:VEVENT
DTSTART;TZID=UTC:20240616T080000
DTEND;TZID=UTC:20240616T170000
DTSTAMP:20260424T015036
CREATED:20240220T113440Z
LAST-MODIFIED:20240516T100911Z
UID:670-1718524800-1718557200@tamworthscc.com.au
SUMMARY:Lap Dash
DESCRIPTION:TSCC Drift Practice Club Lap Dash Rd 3\n2024 Self Statement of Vehicle Compliance\n2024 Speed Non Speed Entry Form\n2024 Self Scrutiny Checklist
URL:https://tamworthscc.com.au/event/lap-dash-june-2024
LOCATION:Oakburn Park Raceway\, 1428 Oxley Hwy\, Wallamore\, NSW\, 2340\, Australia
END:VEVENT
END:VCALENDAR