BEGIN:VCALENDAR
VERSION:2.0
PRODID:-//Tamworth Sporting Car Club - ECPv6.15.13//NONSGML v1.0//EN
CALSCALE:GREGORIAN
METHOD:PUBLISH
X-ORIGINAL-URL:https://tamworthscc.com.au
X-WR-CALDESC:Events for Tamworth Sporting Car Club
REFRESH-INTERVAL;VALUE=DURATION:PT1H
X-Robots-Tag:noindex
X-PUBLISHED-TTL:PT1H
BEGIN:VTIMEZONE
TZID:UTC
BEGIN:STANDARD
TZOFFSETFROM:+0000
TZOFFSETTO:+0000
TZNAME:UTC
DTSTART:20220101T000000
END:STANDARD
END:VTIMEZONE
BEGIN:VEVENT
DTSTART;TZID=UTC:20230930T090000
DTEND;TZID=UTC:20231001T160000
DTSTAMP:20260424T131157
CREATED:20230122T102101Z
LAST-MODIFIED:20230122T102101Z
UID:521-1696064400-1696176000@tamworthscc.com.au
SUMMARY:Tri Series Rd 4
DESCRIPTION:
URL:https://tamworthscc.com.au/event/tri-series-rd-4
LOCATION:Ringwood Park Raymond Terrace
END:VEVENT
END:VCALENDAR