BEGIN:VCALENDAR
VERSION:2.0
PRODID:-//Tamworth Sporting Car Club - ECPv6.15.13//NONSGML v1.0//EN
CALSCALE:GREGORIAN
METHOD:PUBLISH
X-ORIGINAL-URL:https://tamworthscc.com.au
X-WR-CALDESC:Events for Tamworth Sporting Car Club
REFRESH-INTERVAL;VALUE=DURATION:PT1H
X-Robots-Tag:noindex
X-PUBLISHED-TTL:PT1H
BEGIN:VTIMEZONE
TZID:UTC
BEGIN:STANDARD
TZOFFSETFROM:+0000
TZOFFSETTO:+0000
TZNAME:UTC
DTSTART:20220101T000000
END:STANDARD
END:VTIMEZONE
BEGIN:VEVENT
DTSTART;TZID=UTC:20230715T090000
DTEND;TZID=UTC:20230716T160000
DTSTAMP:20260424T165808
CREATED:20230122T101609Z
LAST-MODIFIED:20230616T103609Z
UID:513-1689411600-1689523200@tamworthscc.com.au
SUMMARY:State Hillclimb Rd 6
DESCRIPTION:If you are not able to enter online please send entries to entries@tamworthscc.com.au \n\nSub regs\nSpeed Non-speed Entry Form\nSelf-scrutineering  Statement of Vehicle compliance\nSelf- scrutineering Checklist
URL:https://tamworthscc.com.au/event/state-hillclimb-rd-6
LOCATION:Oakburn Park Raceway\, 1428 Oxley Hwy\, Wallamore\, NSW\, 2340\, Australia
END:VEVENT
END:VCALENDAR