BEGIN:VCALENDAR
VERSION:2.0
PRODID:-//Tamworth Sporting Car Club - ECPv6.15.13//NONSGML v1.0//EN
CALSCALE:GREGORIAN
METHOD:PUBLISH
X-ORIGINAL-URL:https://tamworthscc.com.au
X-WR-CALDESC:Events for Tamworth Sporting Car Club
REFRESH-INTERVAL;VALUE=DURATION:PT1H
X-Robots-Tag:noindex
X-PUBLISHED-TTL:PT1H
BEGIN:VTIMEZONE
TZID:Australia/Sydney
BEGIN:STANDARD
TZOFFSETFROM:+1100
TZOFFSETTO:+1000
TZNAME:AEST
DTSTART:20210403T160000
END:STANDARD
BEGIN:DAYLIGHT
TZOFFSETFROM:+1000
TZOFFSETTO:+1100
TZNAME:AEDT
DTSTART:20211002T160000
END:DAYLIGHT
BEGIN:STANDARD
TZOFFSETFROM:+1100
TZOFFSETTO:+1000
TZNAME:AEST
DTSTART:20220402T160000
END:STANDARD
BEGIN:DAYLIGHT
TZOFFSETFROM:+1000
TZOFFSETTO:+1100
TZNAME:AEDT
DTSTART:20221001T160000
END:DAYLIGHT
BEGIN:STANDARD
TZOFFSETFROM:+1100
TZOFFSETTO:+1000
TZNAME:AEST
DTSTART:20230401T160000
END:STANDARD
BEGIN:DAYLIGHT
TZOFFSETFROM:+1000
TZOFFSETTO:+1100
TZNAME:AEDT
DTSTART:20230930T160000
END:DAYLIGHT
END:VTIMEZONE
BEGIN:VEVENT
DTSTART;TZID=Australia/Sydney:20221113T090000
DTEND;TZID=Australia/Sydney:20221113T120000
DTSTAMP:20260425T033609
CREATED:20220110T063652Z
LAST-MODIFIED:20220110T063652Z
UID:338-1668330000-1668340800@tamworthscc.com.au
SUMMARY:Working Bee
DESCRIPTION:
URL:https://tamworthscc.com.au/event/working-bee-7
LOCATION:Oakburn Park Raceway\, 1428 Oxley Hwy\, Wallamore\, NSW\, 2340\, Australia
END:VEVENT
BEGIN:VEVENT
DTSTART;TZID=Australia/Sydney:20221120T090000
DTEND;TZID=Australia/Sydney:20221120T170000
DTSTAMP:20260425T033609
CREATED:20220110T064933Z
LAST-MODIFIED:20221023T033632Z
UID:356-1668934800-1668963600@tamworthscc.com.au
SUMMARY:Lap Sprint
DESCRIPTION:If you are not able to enter online please send entries to entries@tamworthscc.com.au \n\nSub regs\nSpeed Non-speed Entry Form\nSelf-scrutineering  Statement of Vehicle compliance\nSelf- scrutineering Checklist\n\n 
URL:https://tamworthscc.com.au/event/lap-sprint
LOCATION:Oakburn Park Raceway\, 1428 Oxley Hwy\, Wallamore\, NSW\, 2340\, Australia
END:VEVENT
END:VCALENDAR