BEGIN:VCALENDAR
VERSION:2.0
PRODID:-//Tamworth Sporting Car Club - ECPv6.15.13//NONSGML v1.0//EN
CALSCALE:GREGORIAN
METHOD:PUBLISH
X-WR-CALNAME:Tamworth Sporting Car Club
X-ORIGINAL-URL:https://tamworthscc.com.au
X-WR-CALDESC:Events for Tamworth Sporting Car Club
REFRESH-INTERVAL;VALUE=DURATION:PT1H
X-Robots-Tag:noindex
X-PUBLISHED-TTL:PT1H
BEGIN:VTIMEZONE
TZID:UTC
BEGIN:STANDARD
TZOFFSETFROM:+0000
TZOFFSETTO:+0000
TZNAME:UTC
DTSTART:20250101T000000
END:STANDARD
END:VTIMEZONE
BEGIN:VEVENT
DTSTART;TZID=UTC:20260221T080000
DTEND;TZID=UTC:20260222T160000
DTSTAMP:20260423T232457
CREATED:20260119T110843Z
LAST-MODIFIED:20260218T051153Z
UID:958-1771660800-1771776000@tamworthscc.com.au
SUMMARY:TSCC Come & Try Day / Lap Dash
DESCRIPTION:MUST READ: Supplementary Regulations \nCome & Try Day / Lap Dash – 21st/22nd Feb Supplementary Regulations \nCome & Try Day / Lap Dash – 21st/22nd FEN Further Supplementary Regulations \nCome and Try Day Format \nCome and Try Day Entry Form \nIf you can’t enter online\, complete this form and email to entries@tamworthscc.com.au \n2025 EntryFormSpeed Non Speed \nSelf-scrutineering checklist \n2026 Statement of Vehicle / Apparel Compliance \nIf you would like to become a member of Tamworth Sporting Car Club\, please check out our new Digital Form Here.
URL:https://tamworthscc.com.au/event/tscc-come-try-day-lap-dash
LOCATION:Oakburn Park Raceway\, 1428 Oxley Hwy\, Wallamore\, NSW\, 2340\, Australia
END:VEVENT
BEGIN:VEVENT
DTSTART;TZID=UTC:20260419T080000
DTEND;TZID=UTC:20260419T170000
DTSTAMP:20260423T232457
CREATED:20260326T040625Z
LAST-MODIFIED:20260326T040625Z
UID:998-1776585600-1776618000@tamworthscc.com.au
SUMMARY:TSCC Club Lap Dash
DESCRIPTION:MUST READ: Supplementary Regulations \nLap Dash – 19th April Supplementary Regulations \nLap Dash Entry Form \nIf you can’t enter online\, complete this form and email to entries@tamworthscc.com.au \n2025 EntryFormSpeed Non Speed \nSelf-scrutineering checklist \n2026 Statement of Vehicle / Apparel Compliance
URL:https://tamworthscc.com.au/event/tscc-club-lap-dash
LOCATION:Oakburn Park Raceway\, 1428 Oxley Hwy\, Wallamore\, NSW\, 2340\, Australia
END:VEVENT
BEGIN:VEVENT
DTSTART;TZID=UTC:20260516T080000
DTEND;TZID=UTC:20260517T170000
DTSTAMP:20260423T232457
CREATED:20260422T112449Z
LAST-MODIFIED:20260423T080527Z
UID:1017-1778918400-1779037200@tamworthscc.com.au
SUMMARY:Tri-Series Lap Dash Round 2
DESCRIPTION:MUST READ: Supplementary Regulations \nTri-Series Lap Dash – 16th – 17th May Supplementary Regulations \nTri-Series Lap Dash Entry Form \nIf you can’t enter online\, complete this form and email to entries@tamworthscc.com.au \nSelf-scrutineering checklist \n2026 Statement of Vehicle / Apparel Compliance \nIf you would like to become a member of Tamworth Sporting Car Club\, please check out our new Digital Form Here.
URL:https://tamworthscc.com.au/event/tri-series-lap-dash-round-2
LOCATION:Oakburn Park Raceway\, 1428 Oxley Hwy\, Wallamore\, NSW\, 2340\, Australia
END:VEVENT
END:VCALENDAR