BEGIN:VCALENDAR
VERSION:2.0
PRODID:-//Tamworth Sporting Car Club - ECPv6.15.13//NONSGML v1.0//EN
CALSCALE:GREGORIAN
METHOD:PUBLISH
X-WR-CALNAME:Tamworth Sporting Car Club
X-ORIGINAL-URL:https://tamworthscc.com.au
X-WR-CALDESC:Events for Tamworth Sporting Car Club
REFRESH-INTERVAL;VALUE=DURATION:PT1H
X-Robots-Tag:noindex
X-PUBLISHED-TTL:PT1H
BEGIN:VTIMEZONE
TZID:UTC
BEGIN:STANDARD
TZOFFSETFROM:+0000
TZOFFSETTO:+0000
TZNAME:UTC
DTSTART:20220101T000000
END:STANDARD
END:VTIMEZONE
BEGIN:VEVENT
DTSTART;TZID=UTC:20241214T180000
DTEND;TZID=UTC:20241214T210000
DTSTAMP:20260423T202153
CREATED:20241120T111122Z
LAST-MODIFIED:20241120T112317Z
UID:777-1734199200-1734210000@tamworthscc.com.au
SUMMARY:TSCC Christmas Party
DESCRIPTION:This year the Club’s Christmas Party will be held on Saturday\, 14th December at Oakburn with catering provided by The Firey Cook.  The cost per person is $30.00 and they will be providing a meal consisting of 3 meats & 3 salads.\n\nNumbers need to be in by Friday\, 6th December.\n\n\nPlease RSVP asap if you are able to attend to: tracyalbertson@hotmail.com
URL:https://tamworthscc.com.au/event/tscc-christmas-party
LOCATION:Oakburn Park Raceway\, 1428 Oxley Hwy\, Wallamore\, NSW\, 2340\, Australia
END:VEVENT
BEGIN:VEVENT
DTSTART;TZID=UTC:20241214T110000
DTEND;TZID=UTC:20241214T170000
DTSTAMP:20260423T202153
CREATED:20241120T110638Z
LAST-MODIFIED:20241202T082856Z
UID:772-1734174000-1734195600@tamworthscc.com.au
SUMMARY:Club Practice
DESCRIPTION:TSCC Club Practice 14 December 2024\nSelf Statement of Vehicle Compliance\nSelf Scrutiny Checklist\nSpeed non Speed Entry Form\n\n\nThe TSCC Christmas Party will follow this event starting at 6.00pm $30.00 per head. RSVP before 6 December. Click here for event details.
URL:https://tamworthscc.com.au/event/club-practice
LOCATION:Oakburn Park Raceway\, 1428 Oxley Hwy\, Wallamore\, NSW\, 2340\, Australia
END:VEVENT
BEGIN:VEVENT
DTSTART;TZID=UTC:20241116T080000
DTEND;TZID=UTC:20241117T170000
DTSTAMP:20260423T202153
CREATED:20240822T130614Z
LAST-MODIFIED:20240822T130614Z
UID:748-1731744000-1731862800@tamworthscc.com.au
SUMMARY:Drift Meeting
DESCRIPTION:
URL:https://tamworthscc.com.au/event/drift-meeting-nov-2024
LOCATION:Oakburn Park Raceway\, 1428 Oxley Hwy\, Wallamore\, NSW\, 2340\, Australia
END:VEVENT
BEGIN:VEVENT
DTSTART;TZID=UTC:20241110T080000
DTEND;TZID=UTC:20241110T170000
DTSTAMP:20260423T202153
CREATED:20240220T115139Z
LAST-MODIFIED:20241018T103429Z
UID:687-1731225600-1731258000@tamworthscc.com.au
SUMMARY:Lap Dash
DESCRIPTION:Supplementary Regulations\nSpeed Non Speed Entry Form\nSelf Statement of Vehicle Compliance\nSelf Scrutiny Checklist\n\n 
URL:https://tamworthscc.com.au/event/lap-dash-nov-2024
LOCATION:Oakburn Park Raceway\, 1428 Oxley Hwy\, Wallamore\, NSW\, 2340\, Australia
END:VEVENT
BEGIN:VEVENT
DTSTART;TZID=UTC:20241005T080000
DTEND;TZID=UTC:20241006T170000
DTSTAMP:20260423T202153
CREATED:20240220T115017Z
LAST-MODIFIED:20240220T115017Z
UID:683-1728115200-1728234000@tamworthscc.com.au
SUMMARY:Tri Series Round 4
DESCRIPTION:
URL:https://tamworthscc.com.au/event/tri-series-round-4-2024
LOCATION:Ringwood Park Raymond Terrace
END:VEVENT
BEGIN:VEVENT
DTSTART;TZID=UTC:20240922T080000
DTEND;TZID=UTC:20240922T170000
DTSTAMP:20260423T202153
CREATED:20240901T102747Z
LAST-MODIFIED:20240901T103638Z
UID:755-1726992000-1727024400@tamworthscc.com.au
SUMMARY:Lap Dash
DESCRIPTION:Supplementary Regulations\nSpeed Non Speed Entry Form\nSelf Statement of Vehicle Compliance\nSelf Scrutiny Checklist
URL:https://tamworthscc.com.au/event/lap-dash-22-september
LOCATION:Oakburn Park Raceway\, 1428 Oxley Hwy\, Wallamore\, NSW\, 2340\, Australia
END:VEVENT
BEGIN:VEVENT
DTSTART;TZID=UTC:20240915T080000
DTEND;TZID=UTC:20240915T170000
DTSTAMP:20260423T202153
CREATED:20240220T114443Z
LAST-MODIFIED:20240220T114636Z
UID:676-1726387200-1726419600@tamworthscc.com.au
SUMMARY:State Hillclimb
DESCRIPTION:
URL:https://tamworthscc.com.au/event/state-hillclimb-gunnedah
LOCATION:Porcupine Lookout\, Gunnedah\, NSW\, 2380\, Australia
END:VEVENT
BEGIN:VEVENT
DTSTART;TZID=UTC:20240817T080000
DTEND;TZID=UTC:20240818T170000
DTSTAMP:20260423T202153
CREATED:20240220T113812Z
LAST-MODIFIED:20240725T111320Z
UID:674-1723881600-1724000400@tamworthscc.com.au
SUMMARY:Tri Series Round 3
DESCRIPTION:Speed Non Speed Entry Form\nTri Series 2024 \nSelf Scrutiny Checklist\nSelf Statement of Vehicle Compliance
URL:https://tamworthscc.com.au/event/tri-series-round-3-2024
LOCATION:Oakburn Park Raceway\, 1428 Oxley Hwy\, Wallamore\, NSW\, 2340\, Australia
END:VEVENT
BEGIN:VEVENT
DTSTART;TZID=UTC:20240720T080000
DTEND;TZID=UTC:20240721T170000
DTSTAMP:20260423T202153
CREATED:20240220T113559Z
LAST-MODIFIED:20240607T092711Z
UID:672-1721462400-1721581200@tamworthscc.com.au
SUMMARY:State Hillclimb
DESCRIPTION:2024 Self Scrutiny Checklist\nSelf Statement of Vehicle Compliance\nSupplementary Regulation\nEntry Form
URL:https://tamworthscc.com.au/event/state-hillclimb
LOCATION:Oakburn Park Raceway\, 1428 Oxley Hwy\, Wallamore\, NSW\, 2340\, Australia
END:VEVENT
BEGIN:VEVENT
DTSTART;TZID=UTC:20240616T080000
DTEND;TZID=UTC:20240616T170000
DTSTAMP:20260423T202153
CREATED:20240220T113440Z
LAST-MODIFIED:20240516T100911Z
UID:670-1718524800-1718557200@tamworthscc.com.au
SUMMARY:Lap Dash
DESCRIPTION:TSCC Drift Practice Club Lap Dash Rd 3\n2024 Self Statement of Vehicle Compliance\n2024 Speed Non Speed Entry Form\n2024 Self Scrutiny Checklist
URL:https://tamworthscc.com.au/event/lap-dash-june-2024
LOCATION:Oakburn Park Raceway\, 1428 Oxley Hwy\, Wallamore\, NSW\, 2340\, Australia
END:VEVENT
BEGIN:VEVENT
DTSTART;TZID=UTC:20240615T080000
DTEND;TZID=UTC:20240615T170000
DTSTAMP:20260423T202153
CREATED:20240220T113328Z
LAST-MODIFIED:20240516T100617Z
UID:668-1718438400-1718470800@tamworthscc.com.au
SUMMARY:Drift Practice
DESCRIPTION:TSCC Drift Practice Club Lap Dash Rd 3\n2024 Self Statement of Vehicle Compliance\n2024 Speed Non Speed Entry Form\n2024 Self Scrutiny Checklist\n2024 Introductory Licence Application\n2024 Speed Licence Application\n\n 
URL:https://tamworthscc.com.au/event/drift-practice-2
LOCATION:Oakburn Park Raceway\, 1428 Oxley Hwy\, Wallamore\, NSW\, 2340\, Australia
END:VEVENT
BEGIN:VEVENT
DTSTART;TZID=UTC:20240525T080000
DTEND;TZID=UTC:20240526T170000
DTSTAMP:20260423T202153
CREATED:20240220T113218Z
LAST-MODIFIED:20240220T113236Z
UID:666-1716624000-1716742800@tamworthscc.com.au
SUMMARY:Tri Series Round 2
DESCRIPTION:
URL:https://tamworthscc.com.au/event/tri-series-round-2-2024
LOCATION:Ringwood Park Raymond Terrace
END:VEVENT
BEGIN:VEVENT
DTSTART;TZID=UTC:20240427T080000
DTEND;TZID=UTC:20240428T170000
DTSTAMP:20260423T202153
CREATED:20240220T113043Z
LAST-MODIFIED:20240220T113043Z
UID:664-1714204800-1714323600@tamworthscc.com.au
SUMMARY:Tyre Torture
DESCRIPTION:
URL:https://tamworthscc.com.au/event/tyre-torture
LOCATION:Oakburn Park Raceway\, 1428 Oxley Hwy\, Wallamore\, NSW\, 2340\, Australia
END:VEVENT
BEGIN:VEVENT
DTSTART;TZID=UTC:20240421T080000
DTEND;TZID=UTC:20240421T170000
DTSTAMP:20260423T202153
CREATED:20240220T112919Z
LAST-MODIFIED:20240324T015853Z
UID:660-1713686400-1713718800@tamworthscc.com.au
SUMMARY:Lap Dash
DESCRIPTION:Self Scrutiny Checklist\nSpeed Non-speed Entry Form\nSupplementary Regulations\nSelf Statement of Vehicle Compliance
URL:https://tamworthscc.com.au/event/lapdash-april-2024
LOCATION:Oakburn Park Raceway\, 1428 Oxley Hwy\, Wallamore\, NSW\, 2340\, Australia
END:VEVENT
BEGIN:VEVENT
DTSTART;TZID=UTC:20240407T080000
DTEND;TZID=UTC:20240407T170000
DTSTAMP:20260423T202153
CREATED:20240220T112730Z
LAST-MODIFIED:20240311T110704Z
UID:658-1712476800-1712509200@tamworthscc.com.au
SUMMARY:Sprint Practice
DESCRIPTION:Supplementary Regs \nSpeed Non Speed Entry Form \nSelf Statement of Vehicle Compliance \nSelf Scrutiny Checklist
URL:https://tamworthscc.com.au/event/sprint-practice
LOCATION:Oakburn Park Raceway\, 1428 Oxley Hwy\, Wallamore\, NSW\, 2340\, Australia
END:VEVENT
BEGIN:VEVENT
DTSTART;TZID=UTC:20240406T090000
DTEND;TZID=UTC:20240406T170000
DTSTAMP:20260423T202153
CREATED:20240220T112650Z
LAST-MODIFIED:20240311T110629Z
UID:656-1712394000-1712422800@tamworthscc.com.au
SUMMARY:Drift Practice
DESCRIPTION:Supplementary Regs \nSpeed Non Speed Entry Form \nSelf Statement of Vehicle Compliance \nSelf Scrutiny Checklist
URL:https://tamworthscc.com.au/event/drift-practice
LOCATION:Oakburn Park Raceway\, 1428 Oxley Hwy\, Wallamore\, NSW\, 2340\, Australia
END:VEVENT
BEGIN:VEVENT
DTSTART;TZID=UTC:20240401T080000
DTEND;TZID=UTC:20240401T170000
DTSTAMP:20260423T202153
CREATED:20240220T112556Z
LAST-MODIFIED:20240220T112556Z
UID:654-1711958400-1711990800@tamworthscc.com.au
SUMMARY:MG Nationals
DESCRIPTION:
URL:https://tamworthscc.com.au/event/mg-nationals
LOCATION:Oakburn Park Raceway\, 1428 Oxley Hwy\, Wallamore\, NSW\, 2340\, Australia
END:VEVENT
BEGIN:VEVENT
DTSTART;TZID=UTC:20240329T090000
DTEND;TZID=UTC:20240331T170000
DTSTAMP:20260423T202153
CREATED:20240220T112123Z
LAST-MODIFIED:20240220T112123Z
UID:650-1711702800-1711904400@tamworthscc.com.au
SUMMARY:Bathurst 6 Hour
DESCRIPTION:
URL:https://tamworthscc.com.au/event/bathurst-6-hour
LOCATION:Bathurst\, Mount Panorama\, Bathurst\, NSW\, 2795\, Australia
END:VEVENT
BEGIN:VEVENT
DTSTART;TZID=UTC:20240316T090000
DTEND;TZID=UTC:20240317T160000
DTSTAMP:20260423T202153
CREATED:20240220T111800Z
LAST-MODIFIED:20240220T111800Z
UID:648-1710579600-1710691200@tamworthscc.com.au
SUMMARY:Tri Series Round 1
DESCRIPTION:
URL:https://tamworthscc.com.au/event/tri-series-round-1-2024
LOCATION:Mount Cooperabung Kempsey
END:VEVENT
BEGIN:VEVENT
DTSTART;TZID=UTC:20240218T090000
DTEND;TZID=UTC:20240218T160000
DTSTAMP:20260423T202153
CREATED:20240117T094023Z
LAST-MODIFIED:20240117T094121Z
UID:644-1708246800-1708272000@tamworthscc.com.au
SUMMARY:Lapdash
DESCRIPTION:If you are not able to enter online please send entries to entries@tamworthscc.com.au \n\nSelf Scrutiny Checklist\nSupplementary Regulations\nSpeed Non Speed Entry Form\nSelf Statement of Vehicle Compliance
URL:https://tamworthscc.com.au/event/lap-dash
LOCATION:Oakburn Park Raceway\, 1428 Oxley Hwy\, Wallamore\, NSW\, 2340\, Australia
END:VEVENT
BEGIN:VEVENT
DTSTART;TZID=UTC:20240217T113000
DTEND;TZID=UTC:20240217T160000
DTSTAMP:20260423T202153
CREATED:20240117T093715Z
LAST-MODIFIED:20240117T093932Z
UID:637-1708169400-1708185600@tamworthscc.com.au
SUMMARY:Come & Try Day
DESCRIPTION:Format \n1. Paperwork completed.\n2. Drivers briefing: flags\, general rules and safety.\n3. Basic driver techniques. \nOn Track:\n One car at a time on the track at any time with licensed instructor.\n Three laps in duration.\n After first run of all drivers\, a drivers briefing of overall and individual\ndriving will be held prior to the second run.\n The second run will be individual drivers or an instructor will drive in\norder\, to further instruct the driver if needed.\n The third run will be driver only or with instructor travelling as\npassenger. \nForms: \n\nEntry Form\nSelf Scrutiny Checklist\nSupplementary Regulations\nSpeed Non Speed Entry Form\nSelf Statement of Vehicle Compliance
URL:https://tamworthscc.com.au/event/come-try-day-3
LOCATION:Oakburn Park Raceway\, 1428 Oxley Hwy\, Wallamore\, NSW\, 2340\, Australia
END:VEVENT
BEGIN:VEVENT
DTSTART;TZID=UTC:20231119T090000
DTEND;TZID=UTC:20231119T160000
DTSTAMP:20260423T202153
CREATED:20230122T102323Z
LAST-MODIFIED:20231101T211049Z
UID:525-1700384400-1700409600@tamworthscc.com.au
SUMMARY:Lap Sprint
DESCRIPTION:If you are not able to enter online please send entries to entries@tamworthscc.com.au \n\nSpeed Non-speed Entry Form\nPassenger Ride Entry Form\nSupplementary Regulations\nSelf Statement of Vehicle Compliance\nIntroductory Licence\nSelf Scrutiny – Checklist
URL:https://tamworthscc.com.au/event/lap-sprint-2
LOCATION:Oakburn Park Raceway\, 1428 Oxley Hwy\, Wallamore\, NSW\, 2340\, Australia
END:VEVENT
BEGIN:VEVENT
DTSTART;TZID=UTC:20231112T090000
DTEND;TZID=UTC:20231112T120000
DTSTAMP:20260423T202153
CREATED:20230122T102222Z
LAST-MODIFIED:20230122T102222Z
UID:523-1699779600-1699790400@tamworthscc.com.au
SUMMARY:Working Bee
DESCRIPTION:
URL:https://tamworthscc.com.au/event/working-bee-9
LOCATION:Oakburn Park Raceway\, 1428 Oxley Hwy\, Wallamore\, NSW\, 2340\, Australia
END:VEVENT
BEGIN:VEVENT
DTSTART;TZID=UTC:20230930T090000
DTEND;TZID=UTC:20231001T160000
DTSTAMP:20260423T202153
CREATED:20230122T102101Z
LAST-MODIFIED:20230122T102101Z
UID:521-1696064400-1696176000@tamworthscc.com.au
SUMMARY:Tri Series Rd 4
DESCRIPTION:
URL:https://tamworthscc.com.au/event/tri-series-rd-4
LOCATION:Ringwood Park Raymond Terrace
END:VEVENT
BEGIN:VEVENT
DTSTART;TZID=UTC:20230923T090000
DTEND;TZID=UTC:20230924T160000
DTSTAMP:20260423T202153
CREATED:20230122T101957Z
LAST-MODIFIED:20230822T212112Z
UID:519-1695459600-1695571200@tamworthscc.com.au
SUMMARY:Lapdash
DESCRIPTION:If you are not able to enter online please send entries to entries@tamworthscc.com.au \n\nSub regs\nSpeed Non-speed Entry Form\nSelf-scrutineering  Statement of Vehicle compliance\nSelf- scrutineering Checklist
URL:https://tamworthscc.com.au/event/lapdash-8
LOCATION:Oakburn Park Raceway\, 1428 Oxley Hwy\, Wallamore\, NSW\, 2340\, Australia
END:VEVENT
BEGIN:VEVENT
DTSTART;TZID=UTC:20230910T090000
DTEND;TZID=UTC:20230910T120000
DTSTAMP:20260423T202153
CREATED:20230122T101909Z
LAST-MODIFIED:20230122T101909Z
UID:517-1694336400-1694347200@tamworthscc.com.au
SUMMARY:Working Bee
DESCRIPTION:
URL:https://tamworthscc.com.au/event/working-bee-8
LOCATION:Oakburn Park Raceway\, 1428 Oxley Hwy\, Wallamore\, NSW\, 2340\, Australia
END:VEVENT
BEGIN:VEVENT
DTSTART;TZID=UTC:20230819T090000
DTEND;TZID=UTC:20230820T160000
DTSTAMP:20260423T202153
CREATED:20230122T101734Z
LAST-MODIFIED:20230716T094753Z
UID:515-1692435600-1692547200@tamworthscc.com.au
SUMMARY:Tri Series Rd 3
DESCRIPTION:If you are not able to enter online please send entries to entries@tamworthscc.com.au \n\nSup regs\nSpeed Non-speed Entry Form\nSelf-scrutineering  Statement of Vehicle compliance\nSelf- scrutineering Checklist
URL:https://tamworthscc.com.au/event/tri-series-rd-3
LOCATION:Oakburn Park Raceway\, 1428 Oxley Hwy\, Wallamore\, NSW\, 2340\, Australia
END:VEVENT
BEGIN:VEVENT
DTSTART;TZID=UTC:20230715T090000
DTEND;TZID=UTC:20230716T160000
DTSTAMP:20260423T202153
CREATED:20230122T101609Z
LAST-MODIFIED:20230616T103609Z
UID:513-1689411600-1689523200@tamworthscc.com.au
SUMMARY:State Hillclimb Rd 6
DESCRIPTION:If you are not able to enter online please send entries to entries@tamworthscc.com.au \n\nSub regs\nSpeed Non-speed Entry Form\nSelf-scrutineering  Statement of Vehicle compliance\nSelf- scrutineering Checklist
URL:https://tamworthscc.com.au/event/state-hillclimb-rd-6
LOCATION:Oakburn Park Raceway\, 1428 Oxley Hwy\, Wallamore\, NSW\, 2340\, Australia
END:VEVENT
BEGIN:VEVENT
DTSTART;TZID=UTC:20230618T090000
DTEND;TZID=UTC:20230618T160000
DTSTAMP:20260423T202153
CREATED:20230122T101503Z
LAST-MODIFIED:20230607T095819Z
UID:511-1687078800-1687104000@tamworthscc.com.au
SUMMARY:Lapdash
DESCRIPTION:If you are not able to enter online please send entries to entries@tamworthscc.com.au \n\nSub regs\nSpeed Non-speed Entry Form\nSelf-scrutineering  Statement of Vehicle compliance\nSelf- scrutineering Checklist
URL:https://tamworthscc.com.au/event/lapdash-7
LOCATION:Oakburn Park Raceway\, 1428 Oxley Hwy\, Wallamore\, NSW\, 2340\, Australia
END:VEVENT
BEGIN:VEVENT
DTSTART;TZID=UTC:20230520T120000
DTEND;TZID=UTC:20230521T160000
DTSTAMP:20260423T202153
CREATED:20230122T101233Z
LAST-MODIFIED:20230428T222344Z
UID:509-1684584000-1684684800@tamworthscc.com.au
SUMMARY:Tri Series Rd 2
DESCRIPTION:If you are not able to enter online please send entries to entries@tamworthscc.com.au \n\nSub regs\nSpeed Non-speed Entry Form\nSelf-scrutineering  Statement of Vehicle compliance\nSelf- scrutineering Checklist
URL:https://tamworthscc.com.au/event/tri-series-rd-2
LOCATION:Oakburn Park Raceway\, 1428 Oxley Hwy\, Wallamore\, NSW\, 2340\, Australia
END:VEVENT
END:VCALENDAR