BEGIN:VCALENDAR
VERSION:2.0
PRODID:-//Tamworth Sporting Car Club - ECPv6.15.13//NONSGML v1.0//EN
CALSCALE:GREGORIAN
METHOD:PUBLISH
X-WR-CALNAME:Tamworth Sporting Car Club
X-ORIGINAL-URL:https://tamworthscc.com.au
X-WR-CALDESC:Events for Tamworth Sporting Car Club
REFRESH-INTERVAL;VALUE=DURATION:PT1H
X-Robots-Tag:noindex
X-PUBLISHED-TTL:PT1H
BEGIN:VTIMEZONE
TZID:Australia/Sydney
BEGIN:STANDARD
TZOFFSETFROM:+1100
TZOFFSETTO:+1000
TZNAME:AEST
DTSTART:20210403T160000
END:STANDARD
BEGIN:DAYLIGHT
TZOFFSETFROM:+1000
TZOFFSETTO:+1100
TZNAME:AEDT
DTSTART:20211002T160000
END:DAYLIGHT
BEGIN:STANDARD
TZOFFSETFROM:+1100
TZOFFSETTO:+1000
TZNAME:AEST
DTSTART:20220402T160000
END:STANDARD
BEGIN:DAYLIGHT
TZOFFSETFROM:+1000
TZOFFSETTO:+1100
TZNAME:AEDT
DTSTART:20221001T160000
END:DAYLIGHT
BEGIN:STANDARD
TZOFFSETFROM:+1100
TZOFFSETTO:+1000
TZNAME:AEST
DTSTART:20230401T160000
END:STANDARD
BEGIN:DAYLIGHT
TZOFFSETFROM:+1000
TZOFFSETTO:+1100
TZNAME:AEDT
DTSTART:20230930T160000
END:DAYLIGHT
END:VTIMEZONE
BEGIN:VTIMEZONE
TZID:UTC
BEGIN:STANDARD
TZOFFSETFROM:+0000
TZOFFSETTO:+0000
TZNAME:UTC
DTSTART:20210101T000000
END:STANDARD
END:VTIMEZONE
BEGIN:VEVENT
DTSTART;TZID=Australia/Sydney:20220424T090000
DTEND;TZID=Australia/Sydney:20220424T170000
DTSTAMP:20260425T151504
CREATED:20220110T061836Z
LAST-MODIFIED:20220320T065337Z
UID:315-1650790800-1650819600@tamworthscc.com.au
SUMMARY:Lapdash
DESCRIPTION:Sub Regs form download here \nSelf Scrutineering form download here (to be completed prior to event and brought to event)
URL:https://tamworthscc.com.au/event/lapdash-2
LOCATION:Oakburn Park Raceway\, 1428 Oxley Hwy\, Wallamore\, NSW\, 2340\, Australia
END:VEVENT
BEGIN:VEVENT
DTSTART;TZID=Australia/Sydney:20220417T090000
DTEND;TZID=Australia/Sydney:20220417T120000
DTSTAMP:20260425T151504
CREATED:20220110T063206Z
LAST-MODIFIED:20220120T100445Z
UID:328-1650186000-1650196800@tamworthscc.com.au
SUMMARY:Working Bee
DESCRIPTION:
URL:https://tamworthscc.com.au/event/working-bee-2
LOCATION:Oakburn Park Raceway\, 1428 Oxley Hwy\, Wallamore\, NSW\, 2340\, Australia
END:VEVENT
BEGIN:VEVENT
DTSTART;TZID=UTC:20220326T090000
DTEND;TZID=UTC:20220327T160000
DTSTAMP:20260425T151504
CREATED:20220120T095850Z
LAST-MODIFIED:20220120T095904Z
UID:382-1648285200-1648396800@tamworthscc.com.au
SUMMARY:Tri Series Round 1
DESCRIPTION:
URL:https://tamworthscc.com.au/event/tri-series-round-1
LOCATION:Mount Cooperabung Kempsey
END:VEVENT
BEGIN:VEVENT
DTSTART;TZID=Australia/Sydney:20220220T090000
DTEND;TZID=Australia/Sydney:20220220T170000
DTSTAMP:20260425T151504
CREATED:20220110T060756Z
LAST-MODIFIED:20220120T101124Z
UID:308-1645347600-1645376400@tamworthscc.com.au
SUMMARY:Lapdash
DESCRIPTION:Entry Form
URL:https://tamworthscc.com.au/event/lapdash
LOCATION:Oakburn Park Raceway\, 1428 Oxley Hwy\, Wallamore\, NSW\, 2340\, Australia
END:VEVENT
BEGIN:VEVENT
DTSTART;TZID=Australia/Sydney:20220219T090000
DTEND;TZID=Australia/Sydney:20220219T150000
DTSTAMP:20260425T151504
CREATED:20220110T060619Z
LAST-MODIFIED:20220120T101154Z
UID:306-1645261200-1645282800@tamworthscc.com.au
SUMMARY:Come & Try Day
DESCRIPTION:
URL:https://tamworthscc.com.au/event/come-try-day
LOCATION:Oakburn Park Raceway\, 1428 Oxley Hwy\, Wallamore\, NSW\, 2340\, Australia
END:VEVENT
END:VCALENDAR